BEGIN:VCALENDAR
VERSION:2.0
PRODID:-//Schobermost - ECPv6.15.18//NONSGML v1.0//EN
CALSCALE:GREGORIAN
METHOD:PUBLISH
X-WR-CALNAME:Schobermost
X-ORIGINAL-URL:https://schobermost.at
X-WR-CALDESC:Veranstaltungen für Schobermost
REFRESH-INTERVAL;VALUE=DURATION:PT1H
X-Robots-Tag:noindex
X-PUBLISHED-TTL:PT1H
BEGIN:VTIMEZONE
TZID:Europe/Vienna
BEGIN:DAYLIGHT
TZOFFSETFROM:+0100
TZOFFSETTO:+0200
TZNAME:CEST
DTSTART:20240331T010000
END:DAYLIGHT
BEGIN:STANDARD
TZOFFSETFROM:+0200
TZOFFSETTO:+0100
TZNAME:CET
DTSTART:20241027T010000
END:STANDARD
BEGIN:DAYLIGHT
TZOFFSETFROM:+0100
TZOFFSETTO:+0200
TZNAME:CEST
DTSTART:20250330T010000
END:DAYLIGHT
BEGIN:STANDARD
TZOFFSETFROM:+0200
TZOFFSETTO:+0100
TZNAME:CET
DTSTART:20251026T010000
END:STANDARD
BEGIN:DAYLIGHT
TZOFFSETFROM:+0100
TZOFFSETTO:+0200
TZNAME:CEST
DTSTART:20260329T010000
END:DAYLIGHT
BEGIN:STANDARD
TZOFFSETFROM:+0200
TZOFFSETTO:+0100
TZNAME:CET
DTSTART:20261025T010000
END:STANDARD
BEGIN:DAYLIGHT
TZOFFSETFROM:+0100
TZOFFSETTO:+0200
TZNAME:CEST
DTSTART:20270328T010000
END:DAYLIGHT
BEGIN:STANDARD
TZOFFSETFROM:+0200
TZOFFSETTO:+0100
TZNAME:CET
DTSTART:20271031T010000
END:STANDARD
END:VTIMEZONE
BEGIN:VEVENT
DTSTART;TZID=Europe/Vienna:20260327T100000
DTEND;TZID=Europe/Vienna:20260327T160000
DTSTAMP:20260420T050332
CREATED:20260310T125156Z
LAST-MODIFIED:20260310T125156Z
UID:5857-1774605600-1774627200@schobermost.at
SUMMARY:Verkostung im BILLA PLUS\, Welas Park Wels
DESCRIPTION:Verkostung unserer Topprodukte Apfelmost Zero alkoholfrei und Apfel Frizzante alkoholfrei im BILLA PLUS\, Welas Park in der Ginzkeystraße 27 in Wels.
URL:https://schobermost.at/veranstaltung/verkostung-im-billa-plus-welas-park-wels/
END:VEVENT
BEGIN:VEVENT
DTSTART;TZID=Europe/Vienna:20260314T103000
DTEND;TZID=Europe/Vienna:20260314T150000
DTSTAMP:20260420T050332
CREATED:20260120T112515Z
LAST-MODIFIED:20260120T112806Z
UID:5661-1773484200-1773500400@schobermost.at
SUMMARY:Genussgipfeln in Hinterstoder
DESCRIPTION:Verkosten und skifahren für Genussfans – bei ausgelassener Stimmung in einer traumhaften Bergkulisse.\nWir verkosten die Schober Topprodukte Sparkling Wermut alkoholfrei\, Apfelfrizzante alkoholfrei und Apfelmost Zero alkoholfrei! \nTicket-Preise für die Veranstaltung siehe https://www.genussland.at/aktuelles/veranstaltungen/genussgipfeln-hinterstoder-2026
URL:https://schobermost.at/veranstaltung/genussgipfeln-in-hinterstoder/
LOCATION:Skigebiet Hinterstoder
END:VEVENT
BEGIN:VEVENT
DTSTART;TZID=Europe/Vienna:20260313T100000
DTEND;TZID=Europe/Vienna:20260313T160000
DTSTAMP:20260420T050332
CREATED:20260310T113958Z
LAST-MODIFIED:20260310T123004Z
UID:5849-1773396000-1773417600@schobermost.at
SUMMARY:Verkostung im BILLA PLUS\, 4020 Linz\, Atrium City Center
DESCRIPTION:Verkostung unserer Produkte im BILLA PLUS\, Atrium City Center im Herzen von Linz. Wir verkosten unsere Topprodukte Apfelmost Zero alkoholfrei und Apfel Frizzante alkoholfrei und  freuen uns auf eurer Kommen und viele nette Gespräche. \nAdresse: Mozartstraße 7\, 4020 Linz (Nähe Mozartkreuzung)
URL:https://schobermost.at/veranstaltung/verkostung-im-billa-plus-4020-linz-atrium-city-center/
LOCATION:Atrium City Center\, Mozartstraße 7\, Linz\, Oberösterreich\, 4020\, Austria
END:VEVENT
BEGIN:VEVENT
DTSTART;TZID=Europe/Vienna:20260213T130000
DTEND;TZID=Europe/Vienna:20260214T200000
DTSTAMP:20260420T050332
CREATED:20260119T105946Z
LAST-MODIFIED:20260119T105946Z
UID:5646-1770987600-1771099200@schobermost.at
SUMMARY:VINARIA Wein & Genuss Messe Linz
DESCRIPTION:Wein & Genuss Messe in Linz im Design Center.\nProbiere beim „Die Genussflotte“ Food Stand im EG unsere Spezialitäten Sparkling Wermut alkoholfrei\, Apfelfrizzante alkoholfrei und Apfelmost Zero alkoholfrei ! \nDesign Center Linz\, Europaplatz 1\, 4020 Linz\njeweils 13 bis 20 Uhr\nTicket-Preise für den Messeeintritt siehe www.weingenusslinz.at
URL:https://schobermost.at/veranstaltung/vinaria-wein-genuss-messe-linz/
LOCATION:Design Center Linz\, Europaplatz 1\, Linz\, Oberösterreich\, 4020\, Austria
END:VEVENT
BEGIN:VEVENT
DTSTART;TZID=Europe/Vienna:20260206T100000
DTEND;TZID=Europe/Vienna:20260206T150000
DTSTAMP:20260420T050332
CREATED:20260203T080205Z
LAST-MODIFIED:20260203T170753Z
UID:5669-1770372000-1770390000@schobermost.at
SUMMARY:Verkostung im BILLA Steyregg
DESCRIPTION:Verkostung unserer Produkte Im BILLA Team Delev in Steyregg. Verkostet werden Fruchtsäfte\, Moste\, Cider\, Most Zero alkoholfrei.\nAdresse: Windegg 3a\, 4221 Steyregg
URL:https://schobermost.at/veranstaltung/verkostung-beim-billa-team-delev-steyregg/
END:VEVENT
BEGIN:VEVENT
DTSTART;TZID=Europe/Vienna:20260123T100000
DTEND;TZID=Europe/Vienna:20260123T160000
DTSTAMP:20260420T050332
CREATED:20260109T115043Z
LAST-MODIFIED:20260120T105113Z
UID:5639-1769162400-1769184000@schobermost.at
SUMMARY:Verkostung im INTERSPAR-Hypermarkt Salzburg\, EUROPARK
DESCRIPTION:In der Weinabteilung vom INTERSPAR-Hypermarkt Salzburg-Europark wird unser alkoholfreier Apfelmost Zero verkostet.\nAdresse: Europastraße 1\, 5015 Salzburg
URL:https://schobermost.at/veranstaltung/verkostung-im-interspar-salzburg-europark/
END:VEVENT
BEGIN:VEVENT
DTSTART;TZID=Europe/Vienna:20260123T090000
DTEND;TZID=Europe/Vienna:20260123T150000
DTSTAMP:20260420T050332
CREATED:20260120T104806Z
LAST-MODIFIED:20260120T104806Z
UID:5653-1769158800-1769180400@schobermost.at
SUMMARY:Verkostung im INTERSPAR-Hypermarkt Linz-Wegscheid
DESCRIPTION:In der Weinabteilung wird unser APFELMOST ZERO ALKOHOLFREI verkostet. \nHelmholtzstraße 15\, 4020 Linz\nÖffentlich erreichbar: Stadtbus: Linie 12\, 41\, 43\, 70 und 71 Haltestelle Linz/Donau Salzburger Straße
URL:https://schobermost.at/veranstaltung/verkostung-im-interspar-hypermarkt-linz-wegscheid/
LOCATION:Interspar Linz-Wegscheid\, Helmholtzstraße 15\, Linz\, Oberösterreich\, 4020\, Austria
END:VEVENT
BEGIN:VEVENT
DTSTART;TZID=Europe/Vienna:20260101T000000
DTEND;TZID=Europe/Vienna:20260131T000000
DTSTAMP:20260420T050332
CREATED:20251203T113603Z
LAST-MODIFIED:20251209T100416Z
UID:5570-1767225600-1769817600@schobermost.at
SUMMARY:Dry January
DESCRIPTION:Genuss ohne Alkohol mit Schober: Sparkling Wermut alkoholfrei\, Apfelfrizzante alkoholfrei\, Apfelmost Zero alkoholfrei.\nDie weltweite Kampagne „Dry January“\, bei der Menschen den ganzen Jänner über auf Alkohol verzichten.\nMach mit und unterstütz deine Gesundheit!\nPositive Effekte können sein: besserer Schlaf\, mehr Energie\, Gewichtsverlust und eine verbesserten Haut \nwww.schobermost.at/onlineshop
URL:https://schobermost.at/veranstaltung/dry-january/
END:VEVENT
BEGIN:VEVENT
DTSTART;TZID=Europe/Vienna:20251205T090000
DTEND;TZID=Europe/Vienna:20251205T150000
DTSTAMP:20260420T050332
CREATED:20251203T112207Z
LAST-MODIFIED:20251203T112207Z
UID:5568-1764925200-1764946800@schobermost.at
SUMMARY:Verkostung im Interspar Graz\, Citypark
DESCRIPTION:In der Weinabteilung vom INTERSPAR-Hypermarkt Graz\, Citypark wird unser alkoholfreier Schober Most Zero verkostet.\nAdresse: Lazarettgürtel 55\, 8020 Graz
URL:https://schobermost.at/veranstaltung/verkostung-im-interspar-graz-citypark/
END:VEVENT
END:VCALENDAR